BEGIN:VCALENDAR
VERSION:2.0
METHOD:PUBLISH
PRODID:-//imacoda.com//SPD-Web-O-Mat//EN
CALSCALE:GREGORIAN
BEGIN:VTIMEZONE
TZID:Europe/Berlin
BEGIN:DAYLIGHT
TZOFFSETFROM:+0100
RRULE:FREQ=YEARLY;BYMONTH=3;BYDAY=-1SU
DTSTART:19810329T020000
TZNAME:MESZ
TZOFFSETTO:+0200
END:DAYLIGHT
BEGIN:STANDARD
TZOFFSETFROM:+0200
RRULE:FREQ=YEARLY;BYMONTH=10;BYDAY=-1SU
DTSTART:19961027T030000
TZNAME:MEZ
TZOFFSETTO:+0100
END:STANDARD
END:VTIMEZONE
BEGIN:VEVENT
UID:20200213T072056Z-00000520584-LULU@www.bayernspd.de
CREATED:20200213T072056Z
LAST-MODIFIED:20200213T072927Z
DTSTAMP:20200213T072927Z
TRANSP:TRANSPARENT
DTSTART;TZID=Europe/Berlin:20200226T170000
DTEND;TZID=Europe/Berlin:20200226T200000
SUMMARY:"Politischer Aschermittwoch"
LOCATION:Gasthaus Schwendl\, Nebenzimmer | Tacherting
DESCRIPTION:Termin im Web (SPD Tacherting):\nhttps://spd-tacherting.de/t
 ermine/?id=520584
END:VEVENT
END:VCALENDAR
